BEGIN:VCALENDAR
VERSION:2.0
PRODID:icalendar-ruby
CALSCALE:GREGORIAN
METHOD:PUBLISH
BEGIN:VEVENT
DTSTAMP:20260422T111929Z
UID:10-275998@cornerstonechurchmarianna.com
DTSTART:20260809T154500Z
DTEND:20260809T170000Z
CLASS:PUBLIC
CREATED:20260421T202651
DESCRIPTION:
LAST-MODIFIED:20260421T202651
LOCATION:3017 Hwy 71 N. Marianna\, FL 32448
SUMMARY:Sunday Worship Service
URL;VALUE=URI:https://www.cornerstonechurchmarianna.com/events/sunday-worsh
 ip-service/2026-08-09
ATTACH;FILENAME=IMG_1345.jpeg;FMTTYPE=image/jpeg:https://dq5pwpg1q8ru0.clou
 dfront.net/2025/06/17/00/34/29/52679193-283f-44d5-b780-89cbbe8cabbb/IMG_13
 45.jpeg
END:VEVENT
END:VCALENDAR
